Package: mdp Version: 1.28.0 Command: /home/biocbuild/R/R/bin/R CMD build --keep-empty-dirs --no-resave-data mdp StartedAt: 2025-10-14 02:11:48 -0000 (Tue, 14 Oct 2025) EndedAt: 2025-10-14 02:12:19 -0000 (Tue, 14 Oct 2025) EllapsedTime: 31.0 seconds RetCode: 0 Status: OK PackageFile: mdp_1.28.0.tar.gz PackageFileSize: 4.391 MiB