Package: marray Version: 1.86.0 Command: /home/biocbuild/R/R/bin/R CMD INSTALL marray StartedAt: 2025-10-13 20:13:35 -0000 (Mon, 13 Oct 2025) EndedAt: 2025-10-13 20:13:50 -0000 (Mon, 13 Oct 2025) EllapsedTime: 14.6 seconds RetCode: 0 Status: OK