Package: makecdfenv Version: 1.84.0 Command: /home/biocbuild/R/R/bin/R CMD INSTALL makecdfenv StartedAt: 2025-10-13 20:24:36 -0000 (Mon, 13 Oct 2025) EndedAt: 2025-10-13 20:24:43 -0000 (Mon, 13 Oct 2025) EllapsedTime: 6.7 seconds RetCode: 0 Status: OK