Package: makecdfenv Version: 1.84.0 Command: rm -rf makecdfenv.buildbin-libdir && mkdir makecdfenv.buildbin-libdir && /Users/biocbuild/BBS/utils/build-universal.sh makecdfenv_1.84.0.tar.gz /Library/Frameworks/R.framework/Resources/bin/R makecdfenv.buildbin-libdir StartedAt: 2025-10-15 19:07:54 -0400 (Wed, 15 Oct 2025) EndedAt: 2025-10-15 19:08:06 -0400 (Wed, 15 Oct 2025) EllapsedTime: 12.0 seconds RetCode: 0 Status: OK PackageFile: makecdfenv_1.84.0.tgz PackageFileSize: 3.424 MiB