Package: maftools Version: 2.24.0 Command: /home/biocbuild/R/R/bin/R CMD build --keep-empty-dirs --no-resave-data maftools StartedAt: 2025-10-14 02:03:57 -0000 (Tue, 14 Oct 2025) EndedAt: 2025-10-14 02:08:34 -0000 (Tue, 14 Oct 2025) EllapsedTime: 277.1 seconds RetCode: 0 Status: OK PackageFile: maftools_2.24.0.tar.gz PackageFileSize: 11.54 MiB