Package: maPredictDSC Version: 1.46.0 Command: /home/biocbuild/bbs-3.21-bioc/R/bin/R CMD build --keep-empty-dirs --no-resave-data maPredictDSC StartedAt: 2025-10-15 18:17:26 -0400 (Wed, 15 Oct 2025) EndedAt: 2025-10-15 18:18:51 -0400 (Wed, 15 Oct 2025) EllapsedTime: 85.1 seconds RetCode: 0 Status: OK PackageFile: maPredictDSC_1.46.0.tar.gz PackageFileSize: 197.5 KiB