Package: maPredictDSC Version: 1.46.0 Command: /home/biocbuild/R/R/bin/R CMD INSTALL maPredictDSC StartedAt: 2025-10-13 20:40:11 -0000 (Mon, 13 Oct 2025) EndedAt: 2025-10-13 20:40:44 -0000 (Mon, 13 Oct 2025) EllapsedTime: 33.7 seconds RetCode: 0 Status: OK