Package: maPredictDSC Version: 1.46.0 Command: /home/biocbuild/R/R/bin/R CMD build --keep-empty-dirs --no-resave-data maPredictDSC StartedAt: 2025-10-14 02:06:00 -0000 (Tue, 14 Oct 2025) EndedAt: 2025-10-14 02:46:00 -0000 (Tue, 14 Oct 2025) EllapsedTime: 2400.7 seconds RetCode: None Status: TIMEOUT PackageFile: None PackageFileSize: NA