Package: maPredictDSC Version: 1.46.0 Command: /Library/Frameworks/R.framework/Resources/bin/R CMD build --keep-empty-dirs --no-resave-data maPredictDSC StartedAt: 2025-10-14 03:25:49 -0400 (Tue, 14 Oct 2025) EndedAt: 2025-10-14 03:27:38 -0400 (Tue, 14 Oct 2025) EllapsedTime: 109.3 seconds RetCode: 0 Status: OK PackageFile: maPredictDSC_1.46.0.tar.gz PackageFileSize: 197.6 KiB