Package: maPredictDSC Version: 1.46.0 Command: rm -rf maPredictDSC.buildbin-libdir && mkdir maPredictDSC.buildbin-libdir && /Users/biocbuild/BBS/utils/build-universal.sh maPredictDSC_1.46.0.tar.gz /Library/Frameworks/R.framework/Resources/bin/R maPredictDSC.buildbin-libdir StartedAt: 2025-10-15 19:08:19 -0400 (Wed, 15 Oct 2025) EndedAt: 2025-10-15 19:08:49 -0400 (Wed, 15 Oct 2025) EllapsedTime: 30.8 seconds RetCode: 0 Status: OK PackageFile: maPredictDSC_1.46.0.tgz PackageFileSize: 229 KiB