Package: maCorrPlot Version: 1.78.0 Command: /home/biocbuild/R/R/bin/R CMD INSTALL maCorrPlot StartedAt: 2025-10-13 20:14:33 -0000 (Mon, 13 Oct 2025) EndedAt: 2025-10-13 20:15:04 -0000 (Mon, 13 Oct 2025) EllapsedTime: 30.8 seconds RetCode: 0 Status: OK