Package: maCorrPlot Version: 1.78.0 Command: rm -rf maCorrPlot.buildbin-libdir && mkdir maCorrPlot.buildbin-libdir && /Users/biocbuild/BBS/utils/build-universal.sh maCorrPlot_1.78.0.tar.gz /Library/Frameworks/R.framework/Resources/bin/R maCorrPlot.buildbin-libdir StartedAt: 2025-10-15 19:07:01 -0400 (Wed, 15 Oct 2025) EndedAt: 2025-10-15 19:07:06 -0400 (Wed, 15 Oct 2025) EllapsedTime: 4.3 seconds RetCode: 0 Status: OK PackageFile: maCorrPlot_1.78.0.tgz PackageFileSize: 1.169 MiB