Package: mBPCR Version: 1.62.0 Command: /home/biocbuild/R/R/bin/R CMD INSTALL mBPCR StartedAt: 2025-10-13 20:32:31 -0000 (Mon, 13 Oct 2025) EndedAt: 2025-10-13 20:33:14 -0000 (Mon, 13 Oct 2025) EllapsedTime: 43.1 seconds RetCode: 0 Status: OK