Package: mBPCR Version: 1.62.0 Command: /home/biocbuild/R/R/bin/R CMD build --keep-empty-dirs --no-resave-data mBPCR StartedAt: 2025-10-14 02:10:28 -0000 (Tue, 14 Oct 2025) EndedAt: 2025-10-14 02:11:48 -0000 (Tue, 14 Oct 2025) EllapsedTime: 80.0 seconds RetCode: 0 Status: OK PackageFile: mBPCR_1.62.0.tar.gz PackageFileSize: 826.1 KiB