Package: m6Aboost Version: 1.14.0 Command: /home/biocbuild/bbs-3.21-bioc/R/bin/R CMD build --keep-empty-dirs --no-resave-data m6Aboost StartedAt: 2025-10-15 18:15:19 -0400 (Wed, 15 Oct 2025) EndedAt: 2025-10-15 18:16:30 -0400 (Wed, 15 Oct 2025) EllapsedTime: 71.1 seconds RetCode: 0 Status: OK PackageFile: m6Aboost_1.14.0.tar.gz PackageFileSize: 759.6 KiB