Package: m6Aboost Version: 1.14.0 Command: /home/biocbuild/R/R/bin/R CMD INSTALL m6Aboost StartedAt: 2025-10-13 21:12:48 -0000 (Mon, 13 Oct 2025) EndedAt: 2025-10-13 21:13:50 -0000 (Mon, 13 Oct 2025) EllapsedTime: 62.3 seconds RetCode: 0 Status: OK