Package: m6Aboost Version: 1.14.0 Command: /home/biocbuild/R/R/bin/R CMD build --keep-empty-dirs --no-resave-data m6Aboost StartedAt: 2025-10-14 02:03:13 -0000 (Tue, 14 Oct 2025) EndedAt: 2025-10-14 02:05:01 -0000 (Tue, 14 Oct 2025) EllapsedTime: 108.0 seconds RetCode: 0 Status: OK PackageFile: m6Aboost_1.14.0.tar.gz PackageFileSize: 824.5 KiB