Package: m6Aboost Version: 1.14.0 Command: /Library/Frameworks/R.framework/Resources/bin/R CMD INSTALL m6Aboost StartedAt: 2025-10-13 18:26:05 -0400 (Mon, 13 Oct 2025) EndedAt: 2025-10-13 18:26:56 -0400 (Mon, 13 Oct 2025) EllapsedTime: 50.7 seconds RetCode: 0 Status: OK