Package: m6Aboost Version: 1.14.0 Command: /Library/Frameworks/R.framework/Resources/bin/R CMD build --keep-empty-dirs --no-resave-data m6Aboost StartedAt: 2025-10-14 03:15:00 -0400 (Tue, 14 Oct 2025) EndedAt: 2025-10-14 03:16:35 -0400 (Tue, 14 Oct 2025) EllapsedTime: 95.7 seconds RetCode: 0 Status: OK PackageFile: m6Aboost_1.14.0.tar.gz PackageFileSize: 759.6 KiB