Package: logicFS Version: 2.28.0 Command: rm -rf logicFS.buildbin-libdir && mkdir logicFS.buildbin-libdir && E:\biocbuild\bbs-3.21-bioc\R\bin\R.exe CMD INSTALL --build --library=logicFS.buildbin-libdir logicFS_2.28.0.tar.gz StartedAt: 2025-08-15 09:36:19 -0400 (Fri, 15 Aug 2025) EndedAt: 2025-08-15 09:37:01 -0400 (Fri, 15 Aug 2025) EllapsedTime: 42.2 seconds RetCode: 0 Status: OK PackageFile: logicFS_2.28.0.zip PackageFileSize: 512.8 KiB