Package: logicFS Version: 2.28.0 Command: /home/biocbuild/bbs-3.21-bioc/R/bin/R CMD build --keep-empty-dirs --no-resave-data logicFS StartedAt: 2025-10-15 18:14:34 -0400 (Wed, 15 Oct 2025) EndedAt: 2025-10-15 18:14:47 -0400 (Wed, 15 Oct 2025) EllapsedTime: 13.0 seconds RetCode: 0 Status: OK PackageFile: logicFS_2.28.0.tar.gz PackageFileSize: 260.1 KiB