Package: logicFS Version: 2.28.0 Command: /Library/Frameworks/R.framework/Resources/bin/R CMD INSTALL logicFS StartedAt: 2025-10-13 15:10:19 -0400 (Mon, 13 Oct 2025) EndedAt: 2025-10-13 15:10:48 -0400 (Mon, 13 Oct 2025) EllapsedTime: 28.9 seconds RetCode: 0 Status: OK