Package: logicFS Version: 2.28.0 Command: /Library/Frameworks/R.framework/Resources/bin/R CMD build --keep-empty-dirs --no-resave-data logicFS StartedAt: 2025-10-13 20:07:52 -0400 (Mon, 13 Oct 2025) EndedAt: 2025-10-13 20:08:24 -0400 (Mon, 13 Oct 2025) EllapsedTime: 32.3 seconds RetCode: 0 Status: OK PackageFile: logicFS_2.28.0.tar.gz PackageFileSize: 259.6 KiB