Package: logicFS Version: 2.28.0 Command: /home/biocbuild/R/R/bin/R CMD INSTALL logicFS StartedAt: 2025-10-13 20:15:56 -0000 (Mon, 13 Oct 2025) EndedAt: 2025-10-13 20:16:10 -0000 (Mon, 13 Oct 2025) EllapsedTime: 14.3 seconds RetCode: 0 Status: OK