Package: lmdme Version: 1.50.0 Command: /home/biocbuild/R/R/bin/R CMD INSTALL lmdme StartedAt: 2025-10-13 20:22:08 -0000 (Mon, 13 Oct 2025) EndedAt: 2025-10-13 20:22:27 -0000 (Mon, 13 Oct 2025) EllapsedTime: 18.9 seconds RetCode: 0 Status: OK