Package: lmdme Version: 1.50.0 Command: /home/biocbuild/R/R/bin/R CMD build --keep-empty-dirs --no-resave-data lmdme StartedAt: 2025-10-14 02:01:58 -0000 (Tue, 14 Oct 2025) EndedAt: 2025-10-14 02:02:11 -0000 (Tue, 14 Oct 2025) EllapsedTime: 13.0 seconds RetCode: 0 Status: OK PackageFile: lmdme_1.50.0.tar.gz PackageFileSize: 594.8 KiB