Package: lisaClust Version: 1.16.0 Command: /home/biocbuild/R/R/bin/R CMD INSTALL lisaClust StartedAt: 2025-10-13 21:00:23 -0000 (Mon, 13 Oct 2025) EndedAt: 2025-10-13 21:01:02 -0000 (Mon, 13 Oct 2025) EllapsedTime: 39.4 seconds RetCode: 0 Status: OK