Package: lisaClust Version: 1.16.0 Command: /home/biocbuild/R/R/bin/R CMD build --keep-empty-dirs --no-resave-data lisaClust StartedAt: 2025-10-14 02:01:56 -0000 (Tue, 14 Oct 2025) EndedAt: 2025-10-14 02:09:16 -0000 (Tue, 14 Oct 2025) EllapsedTime: 440.1 seconds RetCode: 0 Status: OK PackageFile: lisaClust_1.16.0.tar.gz PackageFileSize: 2.39 MiB