Package: limmaGUI Version: 1.84.0 Command: /Library/Frameworks/R.framework/Resources/bin/R CMD build --keep-empty-dirs --no-resave-data limmaGUI StartedAt: 2025-10-13 20:05:56 -0400 (Mon, 13 Oct 2025) EndedAt: 2025-10-13 20:06:58 -0400 (Mon, 13 Oct 2025) EllapsedTime: 62.3 seconds RetCode: 0 Status: OK PackageFile: limmaGUI_1.84.0.tar.gz PackageFileSize: 5.346 MiB