Package: limmaGUI Version: 1.84.0 Command: /home/biocbuild/R/R/bin/R CMD INSTALL limmaGUI StartedAt: 2025-10-13 20:15:14 -0000 (Mon, 13 Oct 2025) EndedAt: 2025-10-13 20:15:47 -0000 (Mon, 13 Oct 2025) EllapsedTime: 32.9 seconds RetCode: 0 Status: OK