Package: limmaGUI Version: 1.84.0 Command: /home/biocbuild/R/R/bin/R CMD build --keep-empty-dirs --no-resave-data limmaGUI StartedAt: 2025-10-14 02:00:04 -0000 (Tue, 14 Oct 2025) EndedAt: 2025-10-14 02:00:34 -0000 (Tue, 14 Oct 2025) EllapsedTime: 30.0 seconds RetCode: 0 Status: OK PackageFile: limmaGUI_1.84.0.tar.gz PackageFileSize: 5.34 MiB