Package: limmaGUI Version: 1.84.0 Command: /Library/Frameworks/R.framework/Resources/bin/R CMD build --keep-empty-dirs --no-resave-data limmaGUI StartedAt: 2025-10-14 03:08:29 -0400 (Tue, 14 Oct 2025) EndedAt: 2025-10-14 03:09:04 -0400 (Tue, 14 Oct 2025) EllapsedTime: 35.1 seconds RetCode: 0 Status: OK PackageFile: limmaGUI_1.84.0.tar.gz PackageFileSize: 5.346 MiB