Package: kmcut Version: 1.2.0 Command: /home/biocbuild/R/R/bin/R CMD build --keep-empty-dirs --no-resave-data kmcut StartedAt: 2025-10-14 01:58:21 -0000 (Tue, 14 Oct 2025) EndedAt: 2025-10-14 01:59:16 -0000 (Tue, 14 Oct 2025) EllapsedTime: 55.0 seconds RetCode: 0 Status: OK PackageFile: kmcut_1.2.0.tar.gz PackageFileSize: 1.139 MiB