Package: kebabs Version: 1.42.0 Command: /home/biocbuild/bbs-3.21-bioc/R/bin/R CMD INSTALL kebabs StartedAt: 2025-10-15 15:14:33 -0400 (Wed, 15 Oct 2025) EndedAt: 2025-10-15 15:16:07 -0400 (Wed, 15 Oct 2025) EllapsedTime: 94.4 seconds RetCode: 0 Status: OK