Package: katdetectr Version: 1.10.0 Command: /home/biocbuild/bbs-3.21-bioc/R/bin/R CMD build --keep-empty-dirs --no-resave-data katdetectr StartedAt: 2025-10-15 18:10:47 -0400 (Wed, 15 Oct 2025) EndedAt: 2025-10-15 18:12:03 -0400 (Wed, 15 Oct 2025) EllapsedTime: 76.1 seconds RetCode: 0 Status: OK PackageFile: katdetectr_1.10.0.tar.gz PackageFileSize: 1.352 MiB