Package: katdetectr Version: 1.10.0 Command: /home/biocbuild/R/R/bin/R CMD INSTALL katdetectr StartedAt: 2025-10-13 20:57:16 -0000 (Mon, 13 Oct 2025) EndedAt: 2025-10-13 20:58:12 -0000 (Mon, 13 Oct 2025) EllapsedTime: 56.3 seconds RetCode: 0 Status: OK