Package: katdetectr Version: 1.10.0 Command: /Library/Frameworks/R.framework/Resources/bin/R CMD build --keep-empty-dirs --no-resave-data katdetectr StartedAt: 2025-10-14 03:01:02 -0400 (Tue, 14 Oct 2025) EndedAt: 2025-10-14 03:02:37 -0400 (Tue, 14 Oct 2025) EllapsedTime: 94.3 seconds RetCode: 0 Status: OK PackageFile: katdetectr_1.10.0.tar.gz PackageFileSize: 1.46 MiB