Package: iterativeBMAsurv Version: 1.66.0 Command: /home/biocbuild/R/R/bin/R CMD INSTALL iterativeBMAsurv StartedAt: 2025-10-13 20:15:52 -0000 (Mon, 13 Oct 2025) EndedAt: 2025-10-13 20:16:07 -0000 (Mon, 13 Oct 2025) EllapsedTime: 14.8 seconds RetCode: 0 Status: OK