Package: iterativeBMAsurv Version: 1.66.0 Command: /Library/Frameworks/R.framework/Resources/bin/R CMD INSTALL iterativeBMAsurv StartedAt: 2025-10-13 15:16:04 -0400 (Mon, 13 Oct 2025) EndedAt: 2025-10-13 15:16:12 -0400 (Mon, 13 Oct 2025) EllapsedTime: 7.9 seconds RetCode: 0 Status: OK