Package: iterativeBMA Version: 1.66.0 Command: /home/biocbuild/bbs-3.21-bioc/R/bin/R CMD INSTALL iterativeBMA StartedAt: 2025-10-15 15:11:58 -0400 (Wed, 15 Oct 2025) EndedAt: 2025-10-15 15:12:04 -0400 (Wed, 15 Oct 2025) EllapsedTime: 6.1 seconds RetCode: 0 Status: OK