Package: iterativeBMA Version: 1.66.0 Command: /Library/Frameworks/R.framework/Resources/bin/R CMD INSTALL iterativeBMA StartedAt: 2025-10-13 15:22:31 -0400 (Mon, 13 Oct 2025) EndedAt: 2025-10-13 15:22:49 -0400 (Mon, 13 Oct 2025) EllapsedTime: 17.9 seconds RetCode: 0 Status: OK