Package: iterativeBMA Version: 1.66.0 Command: /home/biocbuild/R/R/bin/R CMD build --keep-empty-dirs --no-resave-data iterativeBMA StartedAt: 2025-10-14 01:55:31 -0000 (Tue, 14 Oct 2025) EndedAt: 2025-10-14 01:55:51 -0000 (Tue, 14 Oct 2025) EllapsedTime: 20.0 seconds RetCode: 0 Status: OK PackageFile: iterativeBMA_1.66.0.tar.gz PackageFileSize: 153.8 KiB