Package: iterativeBMA Version: 1.66.0 Command: /Library/Frameworks/R.framework/Resources/bin/R CMD build --keep-empty-dirs --no-resave-data iterativeBMA StartedAt: 2025-10-14 02:58:17 -0400 (Tue, 14 Oct 2025) EndedAt: 2025-10-14 02:58:41 -0400 (Tue, 14 Oct 2025) EllapsedTime: 23.5 seconds RetCode: 0 Status: OK PackageFile: iterativeBMA_1.66.0.tar.gz PackageFileSize: 158.9 KiB