Package: isobar Version: 1.54.0 Command: /home/biocbuild/R/R/bin/R CMD INSTALL isobar StartedAt: 2025-10-13 20:40:28 -0000 (Mon, 13 Oct 2025) EndedAt: 2025-10-13 20:41:14 -0000 (Mon, 13 Oct 2025) EllapsedTime: 45.8 seconds RetCode: 0 Status: OK