Package: isobar Version: 1.54.0 Command: /home/biocbuild/R/R/bin/R CMD build --keep-empty-dirs --no-resave-data isobar StartedAt: 2025-10-14 01:54:47 -0000 (Tue, 14 Oct 2025) EndedAt: 2025-10-14 01:56:23 -0000 (Tue, 14 Oct 2025) EllapsedTime: 96.0 seconds RetCode: 0 Status: OK PackageFile: isobar_1.54.0.tar.gz PackageFileSize: 2.783 MiB