Package: interactiveDisplayBase Version: 1.46.0 Command: rm -rf interactiveDisplayBase.buildbin-libdir && mkdir interactiveDisplayBase.buildbin-libdir && /Users/biocbuild/BBS/utils/build-universal.sh interactiveDisplayBase_1.46.0.tar.gz /Library/Frameworks/R.framework/Resources/bin/R interactiveDisplayBase.buildbin-libdir StartedAt: 2025-10-14 13:47:11 -0400 (Tue, 14 Oct 2025) EndedAt: 2025-10-14 13:47:26 -0400 (Tue, 14 Oct 2025) EllapsedTime: 15.3 seconds RetCode: 0 Status: OK PackageFile: interactiveDisplayBase_1.46.0.tgz PackageFileSize: 28.46 KiB