Package: interactiveDisplayBase Version: 1.46.0 Command: /Library/Frameworks/R.framework/Resources/bin/R CMD INSTALL interactiveDisplayBase StartedAt: 2025-10-13 17:10:38 -0400 (Mon, 13 Oct 2025) EndedAt: 2025-10-13 17:10:43 -0400 (Mon, 13 Oct 2025) EllapsedTime: 4.6 seconds RetCode: 0 Status: OK