Package: interactiveDisplay Version: 1.46.0 Command: /Library/Frameworks/R.framework/Resources/bin/R CMD build --keep-empty-dirs --no-resave-data interactiveDisplay StartedAt: 2025-10-13 19:56:02 -0400 (Mon, 13 Oct 2025) EndedAt: 2025-10-13 19:57:54 -0400 (Mon, 13 Oct 2025) EllapsedTime: 111.8 seconds RetCode: 0 Status: OK PackageFile: interactiveDisplay_1.46.0.tar.gz PackageFileSize: 4.559 MiB