Package: interactiveDisplay Version: 1.46.0 Command: rm -rf interactiveDisplay.buildbin-libdir && mkdir interactiveDisplay.buildbin-libdir && /Users/biocbuild/BBS/utils/build-universal.sh interactiveDisplay_1.46.0.tar.gz /Library/Frameworks/R.framework/Resources/bin/R interactiveDisplay.buildbin-libdir StartedAt: 2025-10-14 13:47:09 -0400 (Tue, 14 Oct 2025) EndedAt: 2025-10-14 13:48:39 -0400 (Tue, 14 Oct 2025) EllapsedTime: 89.6 seconds RetCode: 0 Status: OK PackageFile: interactiveDisplay_1.46.0.tgz PackageFileSize: 2.471 MiB