Package: interacCircos Version: 1.18.0 Command: /home/biocbuild/bbs-3.21-bioc/R/bin/R CMD INSTALL interacCircos StartedAt: 2025-10-15 15:06:34 -0400 (Wed, 15 Oct 2025) EndedAt: 2025-10-15 15:07:08 -0400 (Wed, 15 Oct 2025) EllapsedTime: 34.5 seconds RetCode: 0 Status: OK